BEGIN:VCALENDAR
VERSION:2.0
PRODID:-//The Form Movement - ECPv6.10.1.1//NONSGML v1.0//EN
CALSCALE:GREGORIAN
METHOD:PUBLISH
X-WR-CALNAME:The Form Movement
X-ORIGINAL-URL:https://www.theformmovement.com.au
X-WR-CALDESC:Events for The Form Movement
REFRESH-INTERVAL;VALUE=DURATION:PT1H
X-Robots-Tag:noindex
X-PUBLISHED-TTL:PT1H
BEGIN:VTIMEZONE
TZID:UTC
BEGIN:STANDARD
TZOFFSETFROM:+0000
TZOFFSETTO:+0000
TZNAME:UTC
DTSTART:20230101T000000
END:STANDARD
END:VTIMEZONE
BEGIN:VEVENT
DTSTART;TZID=UTC:20231007T100000
DTEND;TZID=UTC:20231007T160000
DTSTAMP:20260424T115022
CREATED:20230717T171159Z
LAST-MODIFIED:20230909T135825Z
UID:151-1696672800-1696694400@www.theformmovement.com.au
SUMMARY:School Holidays: Teamwork Day Corrimal Community Hall
DESCRIPTION:Join us for an exciting teamwork day at Corrimal Community Hall! \nWe will start the day with money-handling and budgeting skills/activities\, demonstrating that learning how to handle your money does not have to be a drag but can actually be fun.  \nAfter our morning activities\, we’ll embark on a culinary journey by making our own pizza for lunch before we put our origami-making skills to the test in the afternoon (incl. competition). \n  \nbook now \n  \n  \nIMPORTANT PROGRAM INFORMATION\nAge group: 12 years+ (boys & girls) \nGroup size: 15 ppl \nPlease note: families are welcome to attend if they wish to support their child/youth\, please advise us at least 3 weeks beforehand\, if possible. \n📝 Please bring \n\nYour own water bottle (every day if you attend more than one day)\nHat and sunscreen for outdoor activities (don’t worry\, our staff will bring extra sunscreen if you forget yours)\n\n👥 Support Staff \n\nAll sessions will include a ratio of 1:3 support staff to participants.\n\nPlease note: if you prefer 1:1 support\, we can happily cater to your request. Please contact us to book at least 3 weeks prior to the event day\, if possible. \n💸 Pricing \n\nIn alignment with the NDIS price guideline\, each program/day will be charged according to the ratio of supports per participant.\nActivity costs\, such as program or entry fees\, will be included in the total cost of your program. \nLunch will be provided – if you have specific dietary requirements\, please notify us ahead of the event day (at least 3 weeks prior to the event day\, if possible).\nAny additional planning or specialised support will be added separately to the cost of the day program. \n\n🚌 Transport \n\nTransport can be provided to and from the events and is charged additionally per km as per NDIS guidelines.\n\nPlease notify us if you will be dropping off participants or picking them up from the event.  \n⌛️ Meeting Time & Location + Program Duration \n\nThe day will run from 10am to 3pm.\nWe will meet @10am at: Corrimal Community Hall (Library)\, 15 Short Street\, Corrimal NSW 2518\n\nPlease note: the day will be slightly longer for participants who are travelling with The Form Movement to and from the event. \n☎️ Cancellation & Fees \n\nIf you need to cancel your booking\, please inform us as early as possible to avoid incurring cancellation fees.\nOur programs\, whether they are run by us directly or in conjunction with a third-party provider\, require considerable preparation and particular attendance numbers. Hence\, we would greatly appreciate you let us know well ahead of time.\nIf you cancel too late and we cannot fill your spot\, we have to charge you as per our cancellation policy below: 3 days before the event will incur a 50% cancellation fee and less than 24 hours’ notice will incur a 100% cancellation fee.
URL:https://www.theformmovement.com.au/event/school-holidays-teamwork-day-corrimal/
CATEGORIES:Paid
ATTACH;FMTTYPE=image/jpeg:https://www.theformmovement.com.au/wp-content/uploads/2023/07/TFM-School-Holiday-Program-Teamwork-Day-e1692414003677.jpg
END:VEVENT
BEGIN:VEVENT
DTSTART;TZID=UTC:20231005T103000
DTEND;TZID=UTC:20231005T160000
DTSTAMP:20260424T115022
CREATED:20230818T104949Z
LAST-MODIFIED:20230909T135803Z
UID:665-1696501800-1696521600@www.theformmovement.com.au
SUMMARY:School Holidays: Horse Riding + Picnic Sydney
DESCRIPTION:Feel what it’s like to gently ride a horse at Sydney Horse Riding and to create a special bond with these beautiful\, healing creatures. On this excursion\, we will learn basic horsemanship such as control\, balance and correct riding position\, as we explore different terrain and changing environments on a short trek. \nAfter our lesson we will enjoy a beautiful lunch at a nearby picnic area. \n  \nbook now \n  \n  \nIMPORTANT PROGRAM INFORMATION\nAge group: 12 years+ (boys & girls) \nGroup size: 15 ppl \nPlease note: families are welcome to attend if they wish to support their child/youth\, please advise us at least 3 weeks beforehand\, if possible. \n📝 Please bring \n\nYour own water bottle (every day if you attend more than one day)\nHat and sunscreen for outdoor activities (don’t worry\, our staff will bring extra sunscreen if you forget yours)\n\n👥 Support Staff \n\nAll sessions will include a ratio of 1:3 support staff to participants.\n\nPlease note: if you prefer 1:1 support\, we can happily cater to your request. Please contact us to book at least 3 weeks prior to the event day\, if possible. \n💸 Pricing \n\nIn alignment with the NDIS price guideline\, each program/day will be charged according to the ratio of supports per participant.\nActivity costs\, such as program or entry fees\, will be included in the total cost of your program. \nLunch will be provided – if you have specific dietary requirements\, please notify us ahead of the event day (at least 3 weeks prior to the event day\, if possible).\nAny additional planning or specialised support will be added separately to the cost of the day program. \n\n🚌 Transport \n\nTransport can be provided to and from the events and is charged additionally per km as per NDIS guidelines.\n\nPlease notify us if you will be dropping off participants or picking them up from the event.  \n⌛️ Meeting Time & Location + Program Duration \n\nThe day will run from 10:30am to 4pm.\nWe will meet @10:30am at the horse riding grounds for our 1-hour session: Sydney Horse Riding – 205 Campbelltown Road – Denham Court NSW 2565\nAfter our horse ride\, participants and support staff will head over to Willowdale Park for a delicious lunch and some outdoor games: Willowdale Park – Jamboree & Baden Powell Avenue – Denham Court NSW 2565\nThe day ends at 4pm.\n\nPlease note: the day will be slightly longer for participants who are travelling with The Form Movement to and from the event. \n☎️ Cancellation & Fees \n\nIf you need to cancel your booking\, please inform us as early as possible to avoid incurring cancellation fees.\nOur programs\, whether they are run by us directly or in conjunction with a third-party provider\, require considerable preparation and particular attendance numbers. Hence\, we would greatly appreciate you let us know well ahead of time.\nIf you cancel too late and we cannot fill your spot\, we have to charge you as per our cancellation policy below: 3 days before the event will incur a 50% cancellation fee and less than 24 hours’ notice will incur a 100% cancellation fee.
URL:https://www.theformmovement.com.au/event/school-holidays-horse-riding-day-sydney/
CATEGORIES:Paid
ATTACH;FMTTYPE=image/webp:https://www.theformmovement.com.au/wp-content/uploads/2023/08/TFM-School-Holiay-Program-Horse-Riding-e1692413719326.webp
END:VEVENT
BEGIN:VEVENT
DTSTART;TZID=UTC:20230928T100000
DTEND;TZID=UTC:20230928T160000
DTSTAMP:20260424T115022
CREATED:20230717T171253Z
LAST-MODIFIED:20230909T135747Z
UID:153-1695895200-1695916800@www.theformmovement.com.au
SUMMARY:School Holidays: Mount Keira Hike + BBQ Wollongong
DESCRIPTION:Embark on one of Wollongong’s iconic trails with us by hiking Mount Keira’s scenic\, natural environment and enjoying breathtaking views across the Illawarra.  \nWe will be leaving from Byarong Park at 10am with scheduled breaks along the way\, ending our beautiful day with outdoor games and a delicious BBQ in the afternoon. \n  \nbook now \n  \n  \nIMPORTANT PROGRAM INFORMATION\nAge group: 12 years+ (boys & girls) \nGroup size: 12 ppl \nPlease note: families are welcome to attend if they wish to support their child/youth\, please advise us at least 3 weeks beforehand\, if possible. \n📝 Please bring \n\nYour own water bottle (every day if you attend more than one day)\nHat and sunscreen for outdoor activities (don’t worry\, our staff will bring extra sunscreen if you forget yours)\n\n👥 Support Staff \n\nAll sessions will include a ratio of 1:3 support staff to participants.\n\nPlease note: if you prefer 1:1 support\, we can happily cater to your request. Please contact us to book at least 3 weeks prior to the event day\, if possible. \n💸 Pricing \n\nIn alignment with the NDIS price guideline\, each program/day will be charged according to the ratio of supports per participant.\nActivity costs\, such as program or entry fees\, will be included in the total cost of your program. \nLunch will be provided – if you have specific dietary requirements\, please notify us ahead of the event day (at least 3 weeks prior to the event day\, if possible).\nAny additional planning or specialised support will be added separately to the cost of the day program. \n\n🚌 Transport \n\nTransport can be provided to and from the events and is charged additionally per km as per NDIS guidelines.\n\nPlease notify us if you will be dropping off participants or picking them up from the event.  \n⌛️ Meeting Time & Location + Program Duration \n\nThe day will run from 10am to 4pm.\nWe will meet for our hike @10am: Byarong Park – 321 Mount Keira Road – Mount Keira NSW 2500\nAfter our hike\, we will play outdoor games back at the park and cook a delicious BBQ together.\nAfter a few more games\, the day will end at 4pm. \n\nPlease note: the day will be slightly longer for participants who are travelling with The Form Movement to and from the event. \n☎️ Cancellation & Fees \n\nIf you need to cancel your booking\, please inform us as early as possible to avoid incurring cancellation fees.\nOur programs\, whether they are run by us directly or in conjunction with a third-party provider\, require considerable preparation and particular attendance numbers. Hence\, we would greatly appreciate you let us know well ahead of time.\nIf you cancel too late and we cannot fill your spot\, we have to charge you as per our cancellation policy below: 3 days before the event will incur a 50% cancellation fee and less than 24 hours’ notice will incur a 100% cancellation fee.
URL:https://www.theformmovement.com.au/event/school-holidays-mount-keira-hike-wollongong/
CATEGORIES:Paid
ATTACH;FMTTYPE=image/jpeg:https://www.theformmovement.com.au/wp-content/uploads/2023/07/TFM-School-Holiday-Program-Hike-Wollongong.jpg
END:VEVENT
BEGIN:VEVENT
DTSTART;TZID=UTC:20230917T110000
DTEND;TZID=UTC:20230917T160000
DTSTAMP:20260424T115022
CREATED:20230717T170106Z
LAST-MODIFIED:20230909T135502Z
UID:141-1694948400-1694966400@www.theformmovement.com.au
SUMMARY:Outdoor Fun + Next Level Escape Room Sydney
DESCRIPTION:Join us for a fun day at Next Level Escape in Sydney! \nPut your sharp minds and problem-solving skills to the test in your own TV Show “The Game” by connecting clues and solving puzzles. \nReady to help us leave the escape room in a blaze of glory? \n  \nbook now \n  \n  \nIMPORTANT PROGRAM INFORMATION\nAge group: 12 years+ (boys & girls) \nGroup size: 12 ppl \nPlease note: families are welcome to attend if they wish to support their child/youth\, please advise us at least 3 weeks beforehand\, if possible. \n📝 Please bring \n\nYour own water bottle (every day if you attend more than one day)\nHat and sunscreen for outdoor activities (don’t worry\, our staff will bring extra sunscreen if you forget yours)\n\n👥 Support Staff \n\nAll sessions will include a ratio 1:3 support staff to participants.\n\nPlease note: if you prefer 1:1 support\, we can happily cater to your request. Please contact us to book at least 3 weeks prior to the event day\, if possible. \n💸 Pricing \n\nIn alignment with the NDIS price guideline\, each program/day will be charged according to the ratio of supports per participant.\nActivity costs\, such as program or entry fees\, will be included in the total cost of your program. \nLunch will be provided – if you have specific dietary requirements\, please notify us ahead of the event day (at least 3 weeks prior to the event day\, if possible).\nAny additional planning or specialised support will be added separately to the cost of the day program. \n\n🚌 Transport \n\nTransport can be provided to and from the events and is charged additionally per km as per NDIS guidelines.\n\nPlease notify us if you will be dropping off participants or picking them up from the event.  \n⌛️ Meeting Time & Location + Program Duration \n\nThe day will run from 11am to 4pm.\nWe will meet @11am for some fun outdoor activities: Domain – Phillip Precinct – 1 Art Gallery Road\, Sydney NSW 2000\nAfter the outdoor activities\, we will prepare and cook our lunch together. \nShortly before 2pm\, we will all head over to the Escape Room for our 2pm booking (the session will run for 1.5 hours): Next Level Escape – LG 23 O’Connell Street – Sydney NSW 2000\nThe day ends at 4pm.\n\nPlease note: the day will be slightly longer for participants who are travelling with The Form Movement to and from the event.  \n☎️ Cancellation & Fees \n\nIf you need to cancel your booking\, please inform us as early as possible to avoid incurring cancellation fees.\nOur programs\, whether they are run by us directly or in conjunction with a third-party provider\, require considerable preparation and particular attendance numbers. Hence\, we would greatly appreciate you let us know well ahead of time.\nIf you cancel too late and we cannot fill your spot\, we have to charge you as per our cancellation policy below: 3 days before the event will incur a 50% cancellation fee and less than 24 hours’ notice will incur a 100% cancellation fee.
URL:https://www.theformmovement.com.au/event/escape-room-sydney/
CATEGORIES:Paid
ATTACH;FMTTYPE=image/jpeg:https://www.theformmovement.com.au/wp-content/uploads/2023/07/TFM-Program-Escape-Room-Sydney.jpg
END:VEVENT
END:VCALENDAR